BEGIN:VCALENDAR
VERSION:2.0
PRODID:-//Pragna Technologies - ECPv6.0.10//NONSGML v1.0//EN
CALSCALE:GREGORIAN
METHOD:PUBLISH
X-WR-CALNAME:Pragna Technologies
X-ORIGINAL-URL:https://pragnatechnologies.com
X-WR-CALDESC:Events for Pragna Technologies
REFRESH-INTERVAL;VALUE=DURATION:PT1H
X-Robots-Tag:noindex
X-PUBLISHED-TTL:PT1H
BEGIN:VTIMEZONE
TZID:UTC
BEGIN:STANDARD
TZOFFSETFROM:+0000
TZOFFSETTO:+0000
TZNAME:UTC
DTSTART:20210101T000000
END:STANDARD
END:VTIMEZONE
BEGIN:VEVENT
DTSTART;TZID=UTC:20210628T083000
DTEND;TZID=UTC:20210628T083000
DTSTAMP:20260423T222245
CREATED:20160128T042756Z
LAST-MODIFIED:20220923T130819Z
UID:1204-1624869000-1624869000@pragnatechnologies.com
SUMMARY:PRAGNA TECHNOLOGIES 9TH ANNIVERSARY
DESCRIPTION:
URL:https://pragnatechnologies.com/event/creative-problem-solving-for-researchers/
LOCATION:Venue 1\, 3222 S 169th St\, Seattle\, WA\, United States
CATEGORIES:Event
ATTACH;FMTTYPE=image/jpeg:https://pragnatechnologies.com/wp-content/uploads/2013/06/course_04.jpg
END:VEVENT
BEGIN:VEVENT
DTSTART;TZID=UTC:20210628T083000
DTEND;TZID=UTC:20210628T083000
DTSTAMP:20260423T222245
CREATED:20160128T042646Z
LAST-MODIFIED:20220923T130928Z
UID:1203-1624869000-1624869000@pragnatechnologies.com
SUMMARY:SAP PP ONLINE TRAINING
DESCRIPTION:Sap PP online training new batch starts from 28th December 2017
URL:https://pragnatechnologies.com/event/designing-effective-slides/
LOCATION:Venue 1\, 3222 S 169th St\, Seattle\, WA\, United States
CATEGORIES:Event
ATTACH;FMTTYPE=image/jpeg:https://pragnatechnologies.com/wp-content/uploads/2013/06/course_01.jpg
END:VEVENT
BEGIN:VEVENT
DTSTART;TZID=UTC:20210628T080000
DTEND;TZID=UTC:20210628T170000
DTSTAMP:20260423T222245
CREATED:20160126T024217Z
LAST-MODIFIED:20220923T131057Z
UID:414-1624867200-1624899600@pragnatechnologies.com
SUMMARY:SAP MM ONLINE TRAINING
DESCRIPTION:SAP MM New Online batch starts from 22nd Jan 2018 at 7am
URL:https://pragnatechnologies.com/event/poetry-reading-with-music-by-john-doe/
LOCATION:Venue 1\, 3222 S 169th St\, Seattle\, WA\, United States
CATEGORIES:Event
ATTACH;FMTTYPE=image/jpeg:https://pragnatechnologies.com/wp-content/uploads/2016/01/course_12.jpg
END:VEVENT
END:VCALENDAR